BEGIN:VCALENDAR
VERSION:2.0
PRODID:-// - ECPv5.5.0.1//NONSGML v1.0//EN
CALSCALE:GREGORIAN
METHOD:PUBLISH
X-ORIGINAL-URL:https://www.cerclefreudien.org
X-WR-CALDESC:évènements pour 
BEGIN:VTIMEZONE
TZID:Europe/Paris
BEGIN:DAYLIGHT
TZOFFSETFROM:+0100
TZOFFSETTO:+0200
TZNAME:CEST
DTSTART:20240331T010000
END:DAYLIGHT
BEGIN:STANDARD
TZOFFSETFROM:+0200
TZOFFSETTO:+0100
TZNAME:CET
DTSTART:20241027T010000
END:STANDARD
END:VTIMEZONE
BEGIN:VEVENT
DTSTART;TZID=Europe/Paris:20240323T143000
DTEND;TZID=Europe/Paris:20240323T183000
DTSTAMP:20260423T185918
CREATED:20231217T104647Z
LAST-MODIFIED:20240229T113123Z
UID:10007-1711204200-1711218600@www.cerclefreudien.org
SUMMARY:ParisJournées internes du Cercle (première partie)réservées aux membres
DESCRIPTION:Ces journées auront pour thèmes : Des formations inconscientes du Cercle freudien \n\n\n\nElles donneront l’occasion à celles et ceux qui le souhaitent de visiter l’exposition :Lacan\, l’exposition : Quand l’art rencontre la psychanalyseAu centre Pompidou de Metz \n\n\n\nElles se tiendront donc à l’Hôtel Mercure Metz Centre\, 29 Place St Thiébault\, 57000 Metz\,les Samedi 23 mars de 14h-18h30 et Dimanche 24 mars de 9h-13hUn dîner le samedi 23 mars à 19h30 au restaurant EL Theatris. (Offert aux membres. Des conjoints ou amis peuvent s’y joindre en participant aux frais). \n\n\n\nPour lire l’argument des journées\, cliquer ci-dessous :Journées de Metz
URL:https://www.cerclefreudien.org/event/journees-internes-du-cercle-2/
LOCATION:Hotel Mercure Metz Centre\, Place Saint Thiébault 29\, Metz\, 57000\, France
END:VEVENT
END:VCALENDAR